Workbook

Sheet 自動作成
A1: 総当たり（リーグ戦）の組み合わせ 自動作成シート
A2: 黄色のセルに、チーム数（3〜10）とチーム名を入れると、右の表に節ごとの対戦が出ます。奇数のチーム数は、お休みのチームも出ます。
A3: チーム数 | B3: 6
A5: 番号 | B5: チーム名 | D5: 節 | E5: 第1試合 | F5: 第2試合 | G5: 第3試合 | H5: 第4試合 | I5: 第5試合 | J5: お休み
A6: 1 | B6: チーム1 | D6: =IF(1<='計算用（さわらない）'!$B$1-1,"第1節","") | E6: =IFERROR(INDEX('自動作成'!$B$6:$B$15,MATCH(1,'計算用（さわらない）'!$M4:$V4,0))&" 対 "&INDEX('自動作成'!$B$6:$B$15,INDEX('計算用（さわらない）'!$B4:$K4,1,MATCH(1,'計算用（さわらない）'!$M4:$V4,0))+1),"") | F6: =IFERROR(INDEX('自動作成'!$B$6:$B$15,MATCH(2,'計算用（さわらない）'!$M4:$V4,0))&" 対 "&INDEX('自動作成'!$B$6:$B$15,INDEX('計算用（さわらない）'!$B4:$K4,1,MATCH(2,'計算用（さわらない）'!$M4:$V4,0))+1),"") | G6: =IFERROR(INDEX('自動作成'!$B$6:$B$15,MATCH(3,'計算用（さわらない）'!$M4:$V4,0))&" 対 "&INDEX('自動作成'!$B$6:$B$15,INDEX('計算用（さわらない）'!$B4:$K4,1,MATCH(3,'計算用（さわらない）'!$M4:$V4,0))+1),"") | H6: =IFERROR(INDEX('自動作成'!$B$6:$B$15,MATCH(4,'計算用（さわらない）'!$M4:$V4,0))&" 対 "&INDEX('自動作成'!$B$6:$B$15,INDEX('計算用（さわらない）'!$B4:$K4,1,MATCH(4,'計算用（さわらない）'!$M4:$V4,0))+1),"") | I6: =IFERROR(INDEX('自動作成'!$B$6:$B$15,MATCH(5,'計算用（さわらない）'!$M4:$V4,0))&" 対 "&INDEX('自動作成'!$B$6:$B$15,INDEX('計算用（さわらない）'!$B4:$K4,1,MATCH(5,'計算用（さわらない）'!$M4:$V4,0))+1),"") | J6: =IFERROR(INDEX('自動作成'!$B$6:$B$15,MATCH(1,'計算用（さわらない）'!$X4:$AG4,0)),"")
A7: 2 | B7: チーム2 | D7: =IF(2<='計算用（さわらない）'!$B$1-1,"第2節","") | E7: =IFERROR(INDEX('自動作成'!$B$6:$B$15,MATCH(1,'計算用（さわらない）'!$M5:$V5,0))&" 対 "&INDEX('自動作成'!$B$6:$B$15,INDEX('計算用（さわらない）'!$B5:$K5,1,MATCH(1,'計算用（さわらない）'!$M5:$V5,0))+1),"") | F7: =IFERROR(INDEX('自動作成'!$B$6:$B$15,MATCH(2,'計算用（さわらない）'!$M5:$V5,0))&" 対 "&INDEX('自動作成'!$B$6:$B$15,INDEX('計算用（さわらない）'!$B5:$K5,1,MATCH(2,'計算用（さわらない）'!$M5:$V5,0))+1),"") | G7: =IFERROR(INDEX('自動作成'!$B$6:$B$15,MATCH(3,'計算用（さわらない）'!$M5:$V5,0))&" 対 "&INDEX('自動作成'!$B$6:$B$15,INDEX('計算用（さわらない）'!$B5:$K5,1,MATCH(3,'計算用（さわらない）'!$M5:$V5,0))+1),"") | H7: =IFERROR(INDEX('自動作成'!$B$6:$B$15,MATCH(4,'計算用（さわらない）'!$M5:$V5,0))&" 対 "&INDEX('自動作成'!$B$6:$B$15,INDEX('計算用（さわらない）'!$B5:$K5,1,MATCH(4,'計算用（さわらない）'!$M5:$V5,0))+1),"") | I7: =IFERROR(INDEX('自動作成'!$B$6:$B$15,MATCH(5,'計算用（さわらない）'!$M5:$V5,0))&" 対 "&INDEX('自動作成'!$B$6:$B$15,INDEX('計算用（さわらない）'!$B5:$K5,1,MATCH(5,'計算用（さわらない）'!$M5:$V5,0))+1),"") | J7: =IFERROR(INDEX('自動作成'!$B$6:$B$15,MATCH(1,'計算用（さわらない）'!$X5:$AG5,0)),"")
A8: 3 | B8: チーム3 | D8: =IF(3<='計算用（さわらない）'!$B$1-1,"第3節","") | E8: =IFERROR(INDEX('自動作成'!$B$6:$B$15,MATCH(1,'計算用（さわらない）'!$M6:$V6,0))&" 対 "&INDEX('自動作成'!$B$6:$B$15,INDEX('計算用（さわらない）'!$B6:$K6,1,MATCH(1,'計算用（さわらない）'!$M6:$V6,0))+1),"") | F8: =IFERROR(INDEX('自動作成'!$B$6:$B$15,MATCH(2,'計算用（さわらない）'!$M6:$V6,0))&" 対 "&INDEX('自動作成'!$B$6:$B$15,INDEX('計算用（さわらない）'!$B6:$K6,1,MATCH(2,'計算用（さわらない）'!$M6:$V6,0))+1),"") | G8: =IFERROR(INDEX('自動作成'!$B$6:$B$15,MATCH(3,'計算用（さわらない）'!$M6:$V6,0))&" 対 "&INDEX('自動作成'!$B$6:$B$15,INDEX('計算用（さわらない）'!$B6:$K6,1,MATCH(3,'計算用（さわらない）'!$M6:$V6,0))+1),"") | H8: =IFERROR(INDEX('自動作成'!$B$6:$B$15,MATCH(4,'計算用（さわらない）'!$M6:$V6,0))&" 対 "&INDEX('自動作成'!$B$6:$B$15,INDEX('計算用（さわらない）'!$B6:$K6,1,MATCH(4,'計算用（さわらない）'!$M6:$V6,0))+1),"") | I8: =IFERROR(INDEX('自動作成'!$B$6:$B$15,MATCH(5,'計算用（さわらない）'!$M6:$V6,0))&" 対 "&INDEX('自動作成'!$B$6:$B$15,INDEX('計算用（さわらない）'!$B6:$K6,1,MATCH(5,'計算用（さわらない）'!$M6:$V6,0))+1),"") | J8: =IFERROR(INDEX('自動作成'!$B$6:$B$15,MATCH(1,'計算用（さわらない）'!$X6:$AG6,0)),"")
A9: 4 | B9: チーム4 | D9: =IF(4<='計算用（さわらない）'!$B$1-1,"第4節","") | E9: =IFERROR(INDEX('自動作成'!$B$6:$B$15,MATCH(1,'計算用（さわらない）'!$M7:$V7,0))&" 対 "&INDEX('自動作成'!$B$6:$B$15,INDEX('計算用（さわらない）'!$B7:$K7,1,MATCH(1,'計算用（さわらない）'!$M7:$V7,0))+1),"") | F9: =IFERROR(INDEX('自動作成'!$B$6:$B$15,MATCH(2,'計算用（さわらない）'!$M7:$V7,0))&" 対 "&INDEX('自動作成'!$B$6:$B$15,INDEX('計算用（さわらない）'!$B7:$K7,1,MATCH(2,'計算用（さわらない）'!$M7:$V7,0))+1),"") | G9: =IFERROR(INDEX('自動作成'!$B$6:$B$15,MATCH(3,'計算用（さわらない）'!$M7:$V7,0))&" 対 "&INDEX('自動作成'!$B$6:$B$15,INDEX('計算用（さわらない）'!$B7:$K7,1,MATCH(3,'計算用（さわらない）'!$M7:$V7,0))+1),"") | H9: =IFERROR(INDEX('自動作成'!$B$6:$B$15,MATCH(4,'計算用（さわらない）'!$M7:$V7,0))&" 対 "&INDEX('自動作成'!$B$6:$B$15,INDEX('計算用（さわらない）'!$B7:$K7,1,MATCH(4,'計算用（さわらない）'!$M7:$V7,0))+1),"") | I9: =IFERROR(INDEX('自動作成'!$B$6:$B$15,MATCH(5,'計算用（さわらない）'!$M7:$V7,0))&" 対 "&INDEX('自動作成'!$B$6:$B$15,INDEX('計算用（さわらない）'!$B7:$K7,1,MATCH(5,'計算用（さわらない）'!$M7:$V7,0))+1),"") | J9: =IFERROR(INDEX('自動作成'!$B$6:$B$15,MATCH(1,'計算用（さわらない）'!$X7:$AG7,0)),"")
A10: 5 | B10: チーム5 | D10: =IF(5<='計算用（さわらない）'!$B$1-1,"第5節","") | E10: =IFERROR(INDEX('自動作成'!$B$6:$B$15,MATCH(1,'計算用（さわらない）'!$M8:$V8,0))&" 対 "&INDEX('自動作成'!$B$6:$B$15,INDEX('計算用（さわらない）'!$B8:$K8,1,MATCH(1,'計算用（さわらない）'!$M8:$V8,0))+1),"") | F10: =IFERROR(INDEX('自動作成'!$B$6:$B$15,MATCH(2,'計算用（さわらない）'!$M8:$V8,0))&" 対 "&INDEX('自動作成'!$B$6:$B$15,INDEX('計算用（さわらない）'!$B8:$K8,1,MATCH(2,'計算用（さわらない）'!$M8:$V8,0))+1),"") | G10: =IFERROR(INDEX('自動作成'!$B$6:$B$15,MATCH(3,'計算用（さわらない）'!$M8:$V8,0))&" 対 "&INDEX('自動作成'!$B$6:$B$15,INDEX('計算用（さわらない）'!$B8:$K8,1,MATCH(3,'計算用（さわらない）'!$M8:$V8,0))+1),"") | H10: =IFERROR(INDEX('自動作成'!$B$6:$B$15,MATCH(4,'計算用（さわらない）'!$M8:$V8,0))&" 対 "&INDEX('自動作成'!$B$6:$B$15,INDEX('計算用（さわらない）'!$B8:$K8,1,MATCH(4,'計算用（さわらない）'!$M8:$V8,0))+1),"") | I10: =IFERROR(INDEX('自動作成'!$B$6:$B$15,MATCH(5,'計算用（さわらない）'!$M8:$V8,0))&" 対 "&INDEX('自動作成'!$B$6:$B$15,INDEX('計算用（さわらない）'!$B8:$K8,1,MATCH(5,'計算用（さわらない）'!$M8:$V8,0))+1),"") | J10: =IFERROR(INDEX('自動作成'!$B$6:$B$15,MATCH(1,'計算用（さわらない）'!$X8:$AG8,0)),"")
A11: 6 | B11: チーム6 | D11: =IF(6<='計算用（さわらない）'!$B$1-1,"第6節","") | E11: =IFERROR(INDEX('自動作成'!$B$6:$B$15,MATCH(1,'計算用（さわらない）'!$M9:$V9,0))&" 対 "&INDEX('自動作成'!$B$6:$B$15,INDEX('計算用（さわらない）'!$B9:$K9,1,MATCH(1,'計算用（さわらない）'!$M9:$V9,0))+1),"") | F11: =IFERROR(INDEX('自動作成'!$B$6:$B$15,MATCH(2,'計算用（さわらない）'!$M9:$V9,0))&" 対 "&INDEX('自動作成'!$B$6:$B$15,INDEX('計算用（さわらない）'!$B9:$K9,1,MATCH(2,'計算用（さわらない）'!$M9:$V9,0))+1),"") | G11: =IFERROR(INDEX('自動作成'!$B$6:$B$15,MATCH(3,'計算用（さわらない）'!$M9:$V9,0))&" 対 "&INDEX('自動作成'!$B$6:$B$15,INDEX('計算用（さわらない）'!$B9:$K9,1,MATCH(3,'計算用（さわらない）'!$M9:$V9,0))+1),"") | H11: =IFERROR(INDEX('自動作成'!$B$6:$B$15,MATCH(4,'計算用（さわらない）'!$M9:$V9,0))&" 対 "&INDEX('自動作成'!$B$6:$B$15,INDEX('計算用（さわらない）'!$B9:$K9,1,MATCH(4,'計算用（さわらない）'!$M9:$V9,0))+1),"") | I11: =IFERROR(INDEX('自動作成'!$B$6:$B$15,MATCH(5,'計算用（さわらない）'!$M9:$V9,0))&" 対 "&INDEX('自動作成'!$B$6:$B$15,INDEX('計算用（さわらない）'!$B9:$K9,1,MATCH(5,'計算用（さわらない）'!$M9:$V9,0))+1),"") | J11: =IFERROR(INDEX('自動作成'!$B$6:$B$15,MATCH(1,'計算用（さわらない）'!$X9:$AG9,0)),"")
A12: 7 | B12: チーム7 | D12: =IF(7<='計算用（さわらない）'!$B$1-1,"第7節","") | E12: =IFERROR(INDEX('自動作成'!$B$6:$B$15,MATCH(1,'計算用（さわらない）'!$M10:$V10,0))&" 対 "&INDEX('自動作成'!$B$6:$B$15,INDEX('計算用（さわらない）'!$B10:$K10,1,MATCH(1,'計算用（さわらない）'!$M10:$V10,0))+1),"") | F12: =IFERROR(INDEX('自動作成'!$B$6:$B$15,MATCH(2,'計算用（さわらない）'!$M10:$V10,0))&" 対 "&INDEX('自動作成'!$B$6:$B$15,INDEX('計算用（さわらない）'!$B10:$K10,1,MATCH(2,'計算用（さわらない）'!$M10:$V10,0))+1),"") | G12: =IFERROR(INDEX('自動作成'!$B$6:$B$15,MATCH(3,'計算用（さわらない）'!$M10:$V10,0))&" 対 "&INDEX('自動作成'!$B$6:$B$15,INDEX('計算用（さわらない）'!$B10:$K10,1,MATCH(3,'計算用（さわらない）'!$M10:$V10,0))+1),"") | H12: =IFERROR(INDEX('自動作成'!$B$6:$B$15,MATCH(4,'計算用（さわらない）'!$M10:$V10,0))&" 対 "&INDEX('自動作成'!$B$6:$B$15,INDEX('計算用（さわらない）'!$B10:$K10,1,MATCH(4,'計算用（さわらない）'!$M10:$V10,0))+1),"") | I12: =IFERROR(INDEX('自動作成'!$B$6:$B$15,MATCH(5,'計算用（さわらない）'!$M10:$V10,0))&" 対 "&INDEX('自動作成'!$B$6:$B$15,INDEX('計算用（さわらない）'!$B10:$K10,1,MATCH(5,'計算用（さわらない）'!$M10:$V10,0))+1),"") | J12: =IFERROR(INDEX('自動作成'!$B$6:$B$15,MATCH(1,'計算用（さわらない）'!$X10:$AG10,0)),"")
A13: 8 | B13: チーム8 | D13: =IF(8<='計算用（さわらない）'!$B$1-1,"第8節","") | E13: =IFERROR(INDEX('自動作成'!$B$6:$B$15,MATCH(1,'計算用（さわらない）'!$M11:$V11,0))&" 対 "&INDEX('自動作成'!$B$6:$B$15,INDEX('計算用（さわらない）'!$B11:$K11,1,MATCH(1,'計算用（さわらない）'!$M11:$V11,0))+1),"") | F13: =IFERROR(INDEX('自動作成'!$B$6:$B$15,MATCH(2,'計算用（さわらない）'!$M11:$V11,0))&" 対 "&INDEX('自動作成'!$B$6:$B$15,INDEX('計算用（さわらない）'!$B11:$K11,1,MATCH(2,'計算用（さわらない）'!$M11:$V11,0))+1),"") | G13: =IFERROR(INDEX('自動作成'!$B$6:$B$15,MATCH(3,'計算用（さわらない）'!$M11:$V11,0))&" 対 "&INDEX('自動作成'!$B$6:$B$15,INDEX('計算用（さわらない）'!$B11:$K11,1,MATCH(3,'計算用（さわらない）'!$M11:$V11,0))+1),"") | H13: =IFERROR(INDEX('自動作成'!$B$6:$B$15,MATCH(4,'計算用（さわらない）'!$M11:$V11,0))&" 対 "&INDEX('自動作成'!$B$6:$B$15,INDEX('計算用（さわらない）'!$B11:$K11,1,MATCH(4,'計算用（さわらない）'!$M11:$V11,0))+1),"") | I13: =IFERROR(INDEX('自動作成'!$B$6:$B$15,MATCH(5,'計算用（さわらない）'!$M11:$V11,0))&" 対 "&INDEX('自動作成'!$B$6:$B$15,INDEX('計算用（さわらない）'!$B11:$K11,1,MATCH(5,'計算用（さわらない）'!$M11:$V11,0))+1),"") | J13: =IFERROR(INDEX('自動作成'!$B$6:$B$15,MATCH(1,'計算用（さわらない）'!$X11:$AG11,0)),"")
A14: 9 | B14: チーム9 | D14: =IF(9<='計算用（さわらない）'!$B$1-1,"第9節","") | E14: =IFERROR(INDEX('自動作成'!$B$6:$B$15,MATCH(1,'計算用（さわらない）'!$M12:$V12,0))&" 対 "&INDEX('自動作成'!$B$6:$B$15,INDEX('計算用（さわらない）'!$B12:$K12,1,MATCH(1,'計算用（さわらない）'!$M12:$V12,0))+1),"") | F14: =IFERROR(INDEX('自動作成'!$B$6:$B$15,MATCH(2,'計算用（さわらない）'!$M12:$V12,0))&" 対 "&INDEX('自動作成'!$B$6:$B$15,INDEX('計算用（さわらない）'!$B12:$K12,1,MATCH(2,'計算用（さわらない）'!$M12:$V12,0))+1),"") | G14: =IFERROR(INDEX('自動作成'!$B$6:$B$15,MATCH(3,'計算用（さわらない）'!$M12:$V12,0))&" 対 "&INDEX('自動作成'!$B$6:$B$15,INDEX('計算用（さわらない）'!$B12:$K12,1,MATCH(3,'計算用（さわらない）'!$M12:$V12,0))+1),"") | H14: =IFERROR(INDEX('自動作成'!$B$6:$B$15,MATCH(4,'計算用（さわらない）'!$M12:$V12,0))&" 対 "&INDEX('自動作成'!$B$6:$B$15,INDEX('計算用（さわらない）'!$B12:$K12,1,MATCH(4,'計算用（さわらない）'!$M12:$V12,0))+1),"") | I14: =IFERROR(INDEX('自動作成'!$B$6:$B$15,MATCH(5,'計算用（さわらない）'!$M12:$V12,0))&" 対 "&INDEX('自動作成'!$B$6:$B$15,INDEX('計算用（さわらない）'!$B12:$K12,1,MATCH(5,'計算用（さわらない）'!$M12:$V12,0))+1),"") | J14: =IFERROR(INDEX('自動作成'!$B$6:$B$15,MATCH(1,'計算用（さわらない）'!$X12:$AG12,0)),"")
A15: 10 | B15: チーム10
D16: 1節の試合は同時に進められます。コートが足りないときは、1節の中の試合を2回に分けて並べます。

Sheet 計算用（さわらない）
A1: 偶数に直したチーム数 | B1: ='自動作成'!$B$3+MOD('自動作成'!$B$3,2) -> 6
A2: このシートは自動作成シートの計算に使います。さわらないでください。
A3: 節 | B3: 相手1 | C3: 相手2 | D3: 相手3 | E3: 相手4 | F3: 相手5 | G3: 相手6 | H3: 相手7 | I3: 相手8 | J3: 相手9 | K3: 相手10 | M3: 通し1 | N3: 通し2 | O3: 通し3 | P3: 通し4 | Q3: 通し5 | R3: 通し6 | S3: 通し7 | T3: 通し8 | U3: 通し9 | V3: 通し10 | X3: 休み1 | Y3: 休み2 | Z3: 休み3 | AA3: 休み4 | AB3: 休み5 | AC3: 休み6 | AD3: 休み7 | AE3: 休み8 | AF3: 休み9 | AG3: 休み10
A4: 1 | B4: =IF(OR($A4>$B$1-1,0>$B$1-1),"",IF(0=$B$1-1,MOD(($A4-1)*$B$1/2,$B$1-1),IF(MOD(($A4-1)-0,$B$1-1)=0,$B$1-1,MOD(($A4-1)-0,$B$1-1)))) | C4: =IF(OR($A4>$B$1-1,1>$B$1-1),"",IF(1=$B$1-1,MOD(($A4-1)*$B$1/2,$B$1-1),IF(MOD(($A4-1)-1,$B$1-1)=1,$B$1-1,MOD(($A4-1)-1,$B$1-1)))) | D4: =IF(OR($A4>$B$1-1,2>$B$1-1),"",IF(2=$B$1-1,MOD(($A4-1)*$B$1/2,$B$1-1),IF(MOD(($A4-1)-2,$B$1-1)=2,$B$1-1,MOD(($A4-1)-2,$B$1-1)))) | E4: =IF(OR($A4>$B$1-1,3>$B$1-1),"",IF(3=$B$1-1,MOD(($A4-1)*$B$1/2,$B$1-1),IF(MOD(($A4-1)-3,$B$1-1)=3,$B$1-1,MOD(($A4-1)-3,$B$1-1)))) | F4: =IF(OR($A4>$B$1-1,4>$B$1-1),"",IF(4=$B$1-1,MOD(($A4-1)*$B$1/2,$B$1-1),IF(MOD(($A4-1)-4,$B$1-1)=4,$B$1-1,MOD(($A4-1)-4,$B$1-1)))) | G4: =IF(OR($A4>$B$1-1,5>$B$1-1),"",IF(5=$B$1-1,MOD(($A4-1)*$B$1/2,$B$1-1),IF(MOD(($A4-1)-5,$B$1-1)=5,$B$1-1,MOD(($A4-1)-5,$B$1-1)))) | H4: =IF(OR($A4>$B$1-1,6>$B$1-1),"",IF(6=$B$1-1,MOD(($A4-1)*$B$1/2,$B$1-1),IF(MOD(($A4-1)-6,$B$1-1)=6,$B$1-1,MOD(($A4-1)-6,$B$1-1)))) | I4: =IF(OR($A4>$B$1-1,7>$B$1-1),"",IF(7=$B$1-1,MOD(($A4-1)*$B$1/2,$B$1-1),IF(MOD(($A4-1)-7,$B$1-1)=7,$B$1-1,MOD(($A4-1)-7,$B$1-1)))) | J4: =IF(OR($A4>$B$1-1,8>$B$1-1),"",IF(8=$B$1-1,MOD(($A4-1)*$B$1/2,$B$1-1),IF(MOD(($A4-1)-8,$B$1-1)=8,$B$1-1,MOD(($A4-1)-8,$B$1-1)))) | K4: =IF(OR($A4>$B$1-1,9>$B$1-1),"",IF(9=$B$1-1,MOD(($A4-1)*$B$1/2,$B$1-1),IF(MOD(($A4-1)-9,$B$1-1)=9,$B$1-1,MOD(($A4-1)-9,$B$1-1)))) | M4: =IF(B4="","",0+IF(AND(0<B4,B4<'自動作成'!$B$3),1,0)) | N4: =IF(C4="","",N(M4)+IF(AND(1<C4,C4<'自動作成'!$B$3),1,0)) | O4: =IF(D4="","",N(N4)+IF(AND(2<D4,D4<'自動作成'!$B$3),1,0)) | P4: =IF(E4="","",N(O4)+IF(AND(3<E4,E4<'自動作成'!$B$3),1,0)) | Q4: =IF(F4="","",N(P4)+IF(AND(4<F4,F4<'自動作成'!$B$3),1,0)) | R4: =IF(G4="","",N(Q4)+IF(AND(5<G4,G4<'自動作成'!$B$3),1,0)) | S4: =IF(H4="","",N(R4)+IF(AND(6<H4,H4<'自動作成'!$B$3),1,0)) | T4: =IF(I4="","",N(S4)+IF(AND(7<I4,I4<'自動作成'!$B$3),1,0)) | U4: =IF(J4="","",N(T4)+IF(AND(8<J4,J4<'自動作成'!$B$3),1,0)) | V4: =IF(K4="","",N(U4)+IF(AND(9<K4,K4<'自動作成'!$B$3),1,0)) | X4: =IF(B4="","",IF(AND(0<'自動作成'!$B$3,B4>='自動作成'!$B$3),1,0)) | Y4: =IF(C4="","",IF(AND(1<'自動作成'!$B$3,C4>='自動作成'!$B$3),1,0)) | Z4: =IF(D4="","",IF(AND(2<'自動作成'!$B$3,D4>='自動作成'!$B$3),1,0)) | AA4: =IF(E4="","",IF(AND(3<'自動作成'!$B$3,E4>='自動作成'!$B$3),1,0)) | AB4: =IF(F4="","",IF(AND(4<'自動作成'!$B$3,F4>='自動作成'!$B$3),1,0)) | AC4: =IF(G4="","",IF(AND(5<'自動作成'!$B$3,G4>='自動作成'!$B$3),1,0)) | AD4: =IF(H4="","",IF(AND(6<'自動作成'!$B$3,H4>='自動作成'!$B$3),1,0)) | AE4: =IF(I4="","",IF(AND(7<'自動作成'!$B$3,I4>='自動作成'!$B$3),1,0)) | AF4: =IF(J4="","",IF(AND(8<'自動作成'!$B$3,J4>='自動作成'!$B$3),1,0)) | AG4: =IF(K4="","",IF(AND(9<'自動作成'!$B$3,K4>='自動作成'!$B$3),1,0))
A5: 2 | B5: =IF(OR($A5>$B$1-1,0>$B$1-1),"",IF(0=$B$1-1,MOD(($A5-1)*$B$1/2,$B$1-1),IF(MOD(($A5-1)-0,$B$1-1)=0,$B$1-1,MOD(($A5-1)-0,$B$1-1)))) | C5: =IF(OR($A5>$B$1-1,1>$B$1-1),"",IF(1=$B$1-1,MOD(($A5-1)*$B$1/2,$B$1-1),IF(MOD(($A5-1)-1,$B$1-1)=1,$B$1-1,MOD(($A5-1)-1,$B$1-1)))) | D5: =IF(OR($A5>$B$1-1,2>$B$1-1),"",IF(2=$B$1-1,MOD(($A5-1)*$B$1/2,$B$1-1),IF(MOD(($A5-1)-2,$B$1-1)=2,$B$1-1,MOD(($A5-1)-2,$B$1-1)))) | E5: =IF(OR($A5>$B$1-1,3>$B$1-1),"",IF(3=$B$1-1,MOD(($A5-1)*$B$1/2,$B$1-1),IF(MOD(($A5-1)-3,$B$1-1)=3,$B$1-1,MOD(($A5-1)-3,$B$1-1)))) | F5: =IF(OR($A5>$B$1-1,4>$B$1-1),"",IF(4=$B$1-1,MOD(($A5-1)*$B$1/2,$B$1-1),IF(MOD(($A5-1)-4,$B$1-1)=4,$B$1-1,MOD(($A5-1)-4,$B$1-1)))) | G5: =IF(OR($A5>$B$1-1,5>$B$1-1),"",IF(5=$B$1-1,MOD(($A5-1)*$B$1/2,$B$1-1),IF(MOD(($A5-1)-5,$B$1-1)=5,$B$1-1,MOD(($A5-1)-5,$B$1-1)))) | H5: =IF(OR($A5>$B$1-1,6>$B$1-1),"",IF(6=$B$1-1,MOD(($A5-1)*$B$1/2,$B$1-1),IF(MOD(($A5-1)-6,$B$1-1)=6,$B$1-1,MOD(($A5-1)-6,$B$1-1)))) | I5: =IF(OR($A5>$B$1-1,7>$B$1-1),"",IF(7=$B$1-1,MOD(($A5-1)*$B$1/2,$B$1-1),IF(MOD(($A5-1)-7,$B$1-1)=7,$B$1-1,MOD(($A5-1)-7,$B$1-1)))) | J5: =IF(OR($A5>$B$1-1,8>$B$1-1),"",IF(8=$B$1-1,MOD(($A5-1)*$B$1/2,$B$1-1),IF(MOD(($A5-1)-8,$B$1-1)=8,$B$1-1,MOD(($A5-1)-8,$B$1-1)))) | K5: =IF(OR($A5>$B$1-1,9>$B$1-1),"",IF(9=$B$1-1,MOD(($A5-1)*$B$1/2,$B$1-1),IF(MOD(($A5-1)-9,$B$1-1)=9,$B$1-1,MOD(($A5-1)-9,$B$1-1)))) | M5: =IF(B5="","",0+IF(AND(0<B5,B5<'自動作成'!$B$3),1,0)) | N5: =IF(C5="","",N(M5)+IF(AND(1<C5,C5<'自動作成'!$B$3),1,0)) | O5: =IF(D5="","",N(N5)+IF(AND(2<D5,D5<'自動作成'!$B$3),1,0)) | P5: =IF(E5="","",N(O5)+IF(AND(3<E5,E5<'自動作成'!$B$3),1,0)) | Q5: =IF(F5="","",N(P5)+IF(AND(4<F5,F5<'自動作成'!$B$3),1,0)) | R5: =IF(G5="","",N(Q5)+IF(AND(5<G5,G5<'自動作成'!$B$3),1,0)) | S5: =IF(H5="","",N(R5)+IF(AND(6<H5,H5<'自動作成'!$B$3),1,0)) | T5: =IF(I5="","",N(S5)+IF(AND(7<I5,I5<'自動作成'!$B$3),1,0)) | U5: =IF(J5="","",N(T5)+IF(AND(8<J5,J5<'自動作成'!$B$3),1,0)) | V5: =IF(K5="","",N(U5)+IF(AND(9<K5,K5<'自動作成'!$B$3),1,0)) | X5: =IF(B5="","",IF(AND(0<'自動作成'!$B$3,B5>='自動作成'!$B$3),1,0)) | Y5: =IF(C5="","",IF(AND(1<'自動作成'!$B$3,C5>='自動作成'!$B$3),1,0)) | Z5: =IF(D5="","",IF(AND(2<'自動作成'!$B$3,D5>='自動作成'!$B$3),1,0)) | AA5: =IF(E5="","",IF(AND(3<'自動作成'!$B$3,E5>='自動作成'!$B$3),1,0)) | AB5: =IF(F5="","",IF(AND(4<'自動作成'!$B$3,F5>='自動作成'!$B$3),1,0)) | AC5: =IF(G5="","",IF(AND(5<'自動作成'!$B$3,G5>='自動作成'!$B$3),1,0)) | AD5: =IF(H5="","",IF(AND(6<'自動作成'!$B$3,H5>='自動作成'!$B$3),1,0)) | AE5: =IF(I5="","",IF(AND(7<'自動作成'!$B$3,I5>='自動作成'!$B$3),1,0)) | AF5: =IF(J5="","",IF(AND(8<'自動作成'!$B$3,J5>='自動作成'!$B$3),1,0)) | AG5: =IF(K5="","",IF(AND(9<'自動作成'!$B$3,K5>='自動作成'!$B$3),1,0))
A6: 3 | B6: =IF(OR($A6>$B$1-1,0>$B$1-1),"",IF(0=$B$1-1,MOD(($A6-1)*$B$1/2,$B$1-1),IF(MOD(($A6-1)-0,$B$1-1)=0,$B$1-1,MOD(($A6-1)-0,$B$1-1)))) | C6: =IF(OR($A6>$B$1-1,1>$B$1-1),"",IF(1=$B$1-1,MOD(($A6-1)*$B$1/2,$B$1-1),IF(MOD(($A6-1)-1,$B$1-1)=1,$B$1-1,MOD(($A6-1)-1,$B$1-1)))) | D6: =IF(OR($A6>$B$1-1,2>$B$1-1),"",IF(2=$B$1-1,MOD(($A6-1)*$B$1/2,$B$1-1),IF(MOD(($A6-1)-2,$B$1-1)=2,$B$1-1,MOD(($A6-1)-2,$B$1-1)))) | E6: =IF(OR($A6>$B$1-1,3>$B$1-1),"",IF(3=$B$1-1,MOD(($A6-1)*$B$1/2,$B$1-1),IF(MOD(($A6-1)-3,$B$1-1)=3,$B$1-1,MOD(($A6-1)-3,$B$1-1)))) | F6: =IF(OR($A6>$B$1-1,4>$B$1-1),"",IF(4=$B$1-1,MOD(($A6-1)*$B$1/2,$B$1-1),IF(MOD(($A6-1)-4,$B$1-1)=4,$B$1-1,MOD(($A6-1)-4,$B$1-1)))) | G6: =IF(OR($A6>$B$1-1,5>$B$1-1),"",IF(5=$B$1-1,MOD(($A6-1)*$B$1/2,$B$1-1),IF(MOD(($A6-1)-5,$B$1-1)=5,$B$1-1,MOD(($A6-1)-5,$B$1-1)))) | H6: =IF(OR($A6>$B$1-1,6>$B$1-1),"",IF(6=$B$1-1,MOD(($A6-1)*$B$1/2,$B$1-1),IF(MOD(($A6-1)-6,$B$1-1)=6,$B$1-1,MOD(($A6-1)-6,$B$1-1)))) | I6: =IF(OR($A6>$B$1-1,7>$B$1-1),"",IF(7=$B$1-1,MOD(($A6-1)*$B$1/2,$B$1-1),IF(MOD(($A6-1)-7,$B$1-1)=7,$B$1-1,MOD(($A6-1)-7,$B$1-1)))) | J6: =IF(OR($A6>$B$1-1,8>$B$1-1),"",IF(8=$B$1-1,MOD(($A6-1)*$B$1/2,$B$1-1),IF(MOD(($A6-1)-8,$B$1-1)=8,$B$1-1,MOD(($A6-1)-8,$B$1-1)))) | K6: =IF(OR($A6>$B$1-1,9>$B$1-1),"",IF(9=$B$1-1,MOD(($A6-1)*$B$1/2,$B$1-1),IF(MOD(($A6-1)-9,$B$1-1)=9,$B$1-1,MOD(($A6-1)-9,$B$1-1)))) | M6: =IF(B6="","",0+IF(AND(0<B6,B6<'自動作成'!$B$3),1,0)) | N6: =IF(C6="","",N(M6)+IF(AND(1<C6,C6<'自動作成'!$B$3),1,0)) | O6: =IF(D6="","",N(N6)+IF(AND(2<D6,D6<'自動作成'!$B$3),1,0)) | P6: =IF(E6="","",N(O6)+IF(AND(3<E6,E6<'自動作成'!$B$3),1,0)) | Q6: =IF(F6="","",N(P6)+IF(AND(4<F6,F6<'自動作成'!$B$3),1,0)) | R6: =IF(G6="","",N(Q6)+IF(AND(5<G6,G6<'自動作成'!$B$3),1,0)) | S6: =IF(H6="","",N(R6)+IF(AND(6<H6,H6<'自動作成'!$B$3),1,0)) | T6: =IF(I6="","",N(S6)+IF(AND(7<I6,I6<'自動作成'!$B$3),1,0)) | U6: =IF(J6="","",N(T6)+IF(AND(8<J6,J6<'自動作成'!$B$3),1,0)) | V6: =IF(K6="","",N(U6)+IF(AND(9<K6,K6<'自動作成'!$B$3),1,0)) | X6: =IF(B6="","",IF(AND(0<'自動作成'!$B$3,B6>='自動作成'!$B$3),1,0)) | Y6: =IF(C6="","",IF(AND(1<'自動作成'!$B$3,C6>='自動作成'!$B$3),1,0)) | Z6: =IF(D6="","",IF(AND(2<'自動作成'!$B$3,D6>='自動作成'!$B$3),1,0)) | AA6: =IF(E6="","",IF(AND(3<'自動作成'!$B$3,E6>='自動作成'!$B$3),1,0)) | AB6: =IF(F6="","",IF(AND(4<'自動作成'!$B$3,F6>='自動作成'!$B$3),1,0)) | AC6: =IF(G6="","",IF(AND(5<'自動作成'!$B$3,G6>='自動作成'!$B$3),1,0)) | AD6: =IF(H6="","",IF(AND(6<'自動作成'!$B$3,H6>='自動作成'!$B$3),1,0)) | AE6: =IF(I6="","",IF(AND(7<'自動作成'!$B$3,I6>='自動作成'!$B$3),1,0)) | AF6: =IF(J6="","",IF(AND(8<'自動作成'!$B$3,J6>='自動作成'!$B$3),1,0)) | AG6: =IF(K6="","",IF(AND(9<'自動作成'!$B$3,K6>='自動作成'!$B$3),1,0))
A7: 4 | B7: =IF(OR($A7>$B$1-1,0>$B$1-1),"",IF(0=$B$1-1,MOD(($A7-1)*$B$1/2,$B$1-1),IF(MOD(($A7-1)-0,$B$1-1)=0,$B$1-1,MOD(($A7-1)-0,$B$1-1)))) | C7: =IF(OR($A7>$B$1-1,1>$B$1-1),"",IF(1=$B$1-1,MOD(($A7-1)*$B$1/2,$B$1-1),IF(MOD(($A7-1)-1,$B$1-1)=1,$B$1-1,MOD(($A7-1)-1,$B$1-1)))) | D7: =IF(OR($A7>$B$1-1,2>$B$1-1),"",IF(2=$B$1-1,MOD(($A7-1)*$B$1/2,$B$1-1),IF(MOD(($A7-1)-2,$B$1-1)=2,$B$1-1,MOD(($A7-1)-2,$B$1-1)))) | E7: =IF(OR($A7>$B$1-1,3>$B$1-1),"",IF(3=$B$1-1,MOD(($A7-1)*$B$1/2,$B$1-1),IF(MOD(($A7-1)-3,$B$1-1)=3,$B$1-1,MOD(($A7-1)-3,$B$1-1)))) | F7: =IF(OR($A7>$B$1-1,4>$B$1-1),"",IF(4=$B$1-1,MOD(($A7-1)*$B$1/2,$B$1-1),IF(MOD(($A7-1)-4,$B$1-1)=4,$B$1-1,MOD(($A7-1)-4,$B$1-1)))) | G7: =IF(OR($A7>$B$1-1,5>$B$1-1),"",IF(5=$B$1-1,MOD(($A7-1)*$B$1/2,$B$1-1),IF(MOD(($A7-1)-5,$B$1-1)=5,$B$1-1,MOD(($A7-1)-5,$B$1-1)))) | H7: =IF(OR($A7>$B$1-1,6>$B$1-1),"",IF(6=$B$1-1,MOD(($A7-1)*$B$1/2,$B$1-1),IF(MOD(($A7-1)-6,$B$1-1)=6,$B$1-1,MOD(($A7-1)-6,$B$1-1)))) | I7: =IF(OR($A7>$B$1-1,7>$B$1-1),"",IF(7=$B$1-1,MOD(($A7-1)*$B$1/2,$B$1-1),IF(MOD(($A7-1)-7,$B$1-1)=7,$B$1-1,MOD(($A7-1)-7,$B$1-1)))) | J7: =IF(OR($A7>$B$1-1,8>$B$1-1),"",IF(8=$B$1-1,MOD(($A7-1)*$B$1/2,$B$1-1),IF(MOD(($A7-1)-8,$B$1-1)=8,$B$1-1,MOD(($A7-1)-8,$B$1-1)))) | K7: =IF(OR($A7>$B$1-1,9>$B$1-1),"",IF(9=$B$1-1,MOD(($A7-1)*$B$1/2,$B$1-1),IF(MOD(($A7-1)-9,$B$1-1)=9,$B$1-1,MOD(($A7-1)-9,$B$1-1)))) | M7: =IF(B7="","",0+IF(AND(0<B7,B7<'自動作成'!$B$3),1,0)) | N7: =IF(C7="","",N(M7)+IF(AND(1<C7,C7<'自動作成'!$B$3),1,0)) | O7: =IF(D7="","",N(N7)+IF(AND(2<D7,D7<'自動作成'!$B$3),1,0)) | P7: =IF(E7="","",N(O7)+IF(AND(3<E7,E7<'自動作成'!$B$3),1,0)) | Q7: =IF(F7="","",N(P7)+IF(AND(4<F7,F7<'自動作成'!$B$3),1,0)) | R7: =IF(G7="","",N(Q7)+IF(AND(5<G7,G7<'自動作成'!$B$3),1,0)) | S7: =IF(H7="","",N(R7)+IF(AND(6<H7,H7<'自動作成'!$B$3),1,0)) | T7: =IF(I7="","",N(S7)+IF(AND(7<I7,I7<'自動作成'!$B$3),1,0)) | U7: =IF(J7="","",N(T7)+IF(AND(8<J7,J7<'自動作成'!$B$3),1,0)) | V7: =IF(K7="","",N(U7)+IF(AND(9<K7,K7<'自動作成'!$B$3),1,0)) | X7: =IF(B7="","",IF(AND(0<'自動作成'!$B$3,B7>='自動作成'!$B$3),1,0)) | Y7: =IF(C7="","",IF(AND(1<'自動作成'!$B$3,C7>='自動作成'!$B$3),1,0)) | Z7: =IF(D7="","",IF(AND(2<'自動作成'!$B$3,D7>='自動作成'!$B$3),1,0)) | AA7: =IF(E7="","",IF(AND(3<'自動作成'!$B$3,E7>='自動作成'!$B$3),1,0)) | AB7: =IF(F7="","",IF(AND(4<'自動作成'!$B$3,F7>='自動作成'!$B$3),1,0)) | AC7: =IF(G7="","",IF(AND(5<'自動作成'!$B$3,G7>='自動作成'!$B$3),1,0)) | AD7: =IF(H7="","",IF(AND(6<'自動作成'!$B$3,H7>='自動作成'!$B$3),1,0)) | AE7: =IF(I7="","",IF(AND(7<'自動作成'!$B$3,I7>='自動作成'!$B$3),1,0)) | AF7: =IF(J7="","",IF(AND(8<'自動作成'!$B$3,J7>='自動作成'!$B$3),1,0)) | AG7: =IF(K7="","",IF(AND(9<'自動作成'!$B$3,K7>='自動作成'!$B$3),1,0))
A8: 5 | B8: =IF(OR($A8>$B$1-1,0>$B$1-1),"",IF(0=$B$1-1,MOD(($A8-1)*$B$1/2,$B$1-1),IF(MOD(($A8-1)-0,$B$1-1)=0,$B$1-1,MOD(($A8-1)-0,$B$1-1)))) | C8: =IF(OR($A8>$B$1-1,1>$B$1-1),"",IF(1=$B$1-1,MOD(($A8-1)*$B$1/2,$B$1-1),IF(MOD(($A8-1)-1,$B$1-1)=1,$B$1-1,MOD(($A8-1)-1,$B$1-1)))) | D8: =IF(OR($A8>$B$1-1,2>$B$1-1),"",IF(2=$B$1-1,MOD(($A8-1)*$B$1/2,$B$1-1),IF(MOD(($A8-1)-2,$B$1-1)=2,$B$1-1,MOD(($A8-1)-2,$B$1-1)))) | E8: =IF(OR($A8>$B$1-1,3>$B$1-1),"",IF(3=$B$1-1,MOD(($A8-1)*$B$1/2,$B$1-1),IF(MOD(($A8-1)-3,$B$1-1)=3,$B$1-1,MOD(($A8-1)-3,$B$1-1)))) | F8: =IF(OR($A8>$B$1-1,4>$B$1-1),"",IF(4=$B$1-1,MOD(($A8-1)*$B$1/2,$B$1-1),IF(MOD(($A8-1)-4,$B$1-1)=4,$B$1-1,MOD(($A8-1)-4,$B$1-1)))) | G8: =IF(OR($A8>$B$1-1,5>$B$1-1),"",IF(5=$B$1-1,MOD(($A8-1)*$B$1/2,$B$1-1),IF(MOD(($A8-1)-5,$B$1-1)=5,$B$1-1,MOD(($A8-1)-5,$B$1-1)))) | H8: =IF(OR($A8>$B$1-1,6>$B$1-1),"",IF(6=$B$1-1,MOD(($A8-1)*$B$1/2,$B$1-1),IF(MOD(($A8-1)-6,$B$1-1)=6,$B$1-1,MOD(($A8-1)-6,$B$1-1)))) | I8: =IF(OR($A8>$B$1-1,7>$B$1-1),"",IF(7=$B$1-1,MOD(($A8-1)*$B$1/2,$B$1-1),IF(MOD(($A8-1)-7,$B$1-1)=7,$B$1-1,MOD(($A8-1)-7,$B$1-1)))) | J8: =IF(OR($A8>$B$1-1,8>$B$1-1),"",IF(8=$B$1-1,MOD(($A8-1)*$B$1/2,$B$1-1),IF(MOD(($A8-1)-8,$B$1-1)=8,$B$1-1,MOD(($A8-1)-8,$B$1-1)))) | K8: =IF(OR($A8>$B$1-1,9>$B$1-1),"",IF(9=$B$1-1,MOD(($A8-1)*$B$1/2,$B$1-1),IF(MOD(($A8-1)-9,$B$1-1)=9,$B$1-1,MOD(($A8-1)-9,$B$1-1)))) | M8: =IF(B8="","",0+IF(AND(0<B8,B8<'自動作成'!$B$3),1,0)) | N8: =IF(C8="","",N(M8)+IF(AND(1<C8,C8<'自動作成'!$B$3),1,0)) | O8: =IF(D8="","",N(N8)+IF(AND(2<D8,D8<'自動作成'!$B$3),1,0)) | P8: =IF(E8="","",N(O8)+IF(AND(3<E8,E8<'自動作成'!$B$3),1,0)) | Q8: =IF(F8="","",N(P8)+IF(AND(4<F8,F8<'自動作成'!$B$3),1,0)) | R8: =IF(G8="","",N(Q8)+IF(AND(5<G8,G8<'自動作成'!$B$3),1,0)) | S8: =IF(H8="","",N(R8)+IF(AND(6<H8,H8<'自動作成'!$B$3),1,0)) | T8: =IF(I8="","",N(S8)+IF(AND(7<I8,I8<'自動作成'!$B$3),1,0)) | U8: =IF(J8="","",N(T8)+IF(AND(8<J8,J8<'自動作成'!$B$3),1,0)) | V8: =IF(K8="","",N(U8)+IF(AND(9<K8,K8<'自動作成'!$B$3),1,0)) | X8: =IF(B8="","",IF(AND(0<'自動作成'!$B$3,B8>='自動作成'!$B$3),1,0)) | Y8: =IF(C8="","",IF(AND(1<'自動作成'!$B$3,C8>='自動作成'!$B$3),1,0)) | Z8: =IF(D8="","",IF(AND(2<'自動作成'!$B$3,D8>='自動作成'!$B$3),1,0)) | AA8: =IF(E8="","",IF(AND(3<'自動作成'!$B$3,E8>='自動作成'!$B$3),1,0)) | AB8: =IF(F8="","",IF(AND(4<'自動作成'!$B$3,F8>='自動作成'!$B$3),1,0)) | AC8: =IF(G8="","",IF(AND(5<'自動作成'!$B$3,G8>='自動作成'!$B$3),1,0)) | AD8: =IF(H8="","",IF(AND(6<'自動作成'!$B$3,H8>='自動作成'!$B$3),1,0)) | AE8: =IF(I8="","",IF(AND(7<'自動作成'!$B$3,I8>='自動作成'!$B$3),1,0)) | AF8: =IF(J8="","",IF(AND(8<'自動作成'!$B$3,J8>='自動作成'!$B$3),1,0)) | AG8: =IF(K8="","",IF(AND(9<'自動作成'!$B$3,K8>='自動作成'!$B$3),1,0))
A9: 6 | B9: =IF(OR($A9>$B$1-1,0>$B$1-1),"",IF(0=$B$1-1,MOD(($A9-1)*$B$1/2,$B$1-1),IF(MOD(($A9-1)-0,$B$1-1)=0,$B$1-1,MOD(($A9-1)-0,$B$1-1)))) | C9: =IF(OR($A9>$B$1-1,1>$B$1-1),"",IF(1=$B$1-1,MOD(($A9-1)*$B$1/2,$B$1-1),IF(MOD(($A9-1)-1,$B$1-1)=1,$B$1-1,MOD(($A9-1)-1,$B$1-1)))) | D9: =IF(OR($A9>$B$1-1,2>$B$1-1),"",IF(2=$B$1-1,MOD(($A9-1)*$B$1/2,$B$1-1),IF(MOD(($A9-1)-2,$B$1-1)=2,$B$1-1,MOD(($A9-1)-2,$B$1-1)))) | E9: =IF(OR($A9>$B$1-1,3>$B$1-1),"",IF(3=$B$1-1,MOD(($A9-1)*$B$1/2,$B$1-1),IF(MOD(($A9-1)-3,$B$1-1)=3,$B$1-1,MOD(($A9-1)-3,$B$1-1)))) | F9: =IF(OR($A9>$B$1-1,4>$B$1-1),"",IF(4=$B$1-1,MOD(($A9-1)*$B$1/2,$B$1-1),IF(MOD(($A9-1)-4,$B$1-1)=4,$B$1-1,MOD(($A9-1)-4,$B$1-1)))) | G9: =IF(OR($A9>$B$1-1,5>$B$1-1),"",IF(5=$B$1-1,MOD(($A9-1)*$B$1/2,$B$1-1),IF(MOD(($A9-1)-5,$B$1-1)=5,$B$1-1,MOD(($A9-1)-5,$B$1-1)))) | H9: =IF(OR($A9>$B$1-1,6>$B$1-1),"",IF(6=$B$1-1,MOD(($A9-1)*$B$1/2,$B$1-1),IF(MOD(($A9-1)-6,$B$1-1)=6,$B$1-1,MOD(($A9-1)-6,$B$1-1)))) | I9: =IF(OR($A9>$B$1-1,7>$B$1-1),"",IF(7=$B$1-1,MOD(($A9-1)*$B$1/2,$B$1-1),IF(MOD(($A9-1)-7,$B$1-1)=7,$B$1-1,MOD(($A9-1)-7,$B$1-1)))) | J9: =IF(OR($A9>$B$1-1,8>$B$1-1),"",IF(8=$B$1-1,MOD(($A9-1)*$B$1/2,$B$1-1),IF(MOD(($A9-1)-8,$B$1-1)=8,$B$1-1,MOD(($A9-1)-8,$B$1-1)))) | K9: =IF(OR($A9>$B$1-1,9>$B$1-1),"",IF(9=$B$1-1,MOD(($A9-1)*$B$1/2,$B$1-1),IF(MOD(($A9-1)-9,$B$1-1)=9,$B$1-1,MOD(($A9-1)-9,$B$1-1)))) | M9: =IF(B9="","",0+IF(AND(0<B9,B9<'自動作成'!$B$3),1,0)) | N9: =IF(C9="","",N(M9)+IF(AND(1<C9,C9<'自動作成'!$B$3),1,0)) | O9: =IF(D9="","",N(N9)+IF(AND(2<D9,D9<'自動作成'!$B$3),1,0)) | P9: =IF(E9="","",N(O9)+IF(AND(3<E9,E9<'自動作成'!$B$3),1,0)) | Q9: =IF(F9="","",N(P9)+IF(AND(4<F9,F9<'自動作成'!$B$3),1,0)) | R9: =IF(G9="","",N(Q9)+IF(AND(5<G9,G9<'自動作成'!$B$3),1,0)) | S9: =IF(H9="","",N(R9)+IF(AND(6<H9,H9<'自動作成'!$B$3),1,0)) | T9: =IF(I9="","",N(S9)+IF(AND(7<I9,I9<'自動作成'!$B$3),1,0)) | U9: =IF(J9="","",N(T9)+IF(AND(8<J9,J9<'自動作成'!$B$3),1,0)) | V9: =IF(K9="","",N(U9)+IF(AND(9<K9,K9<'自動作成'!$B$3),1,0)) | X9: =IF(B9="","",IF(AND(0<'自動作成'!$B$3,B9>='自動作成'!$B$3),1,0)) | Y9: =IF(C9="","",IF(AND(1<'自動作成'!$B$3,C9>='自動作成'!$B$3),1,0)) | Z9: =IF(D9="","",IF(AND(2<'自動作成'!$B$3,D9>='自動作成'!$B$3),1,0)) | AA9: =IF(E9="","",IF(AND(3<'自動作成'!$B$3,E9>='自動作成'!$B$3),1,0)) | AB9: =IF(F9="","",IF(AND(4<'自動作成'!$B$3,F9>='自動作成'!$B$3),1,0)) | AC9: =IF(G9="","",IF(AND(5<'自動作成'!$B$3,G9>='自動作成'!$B$3),1,0)) | AD9: =IF(H9="","",IF(AND(6<'自動作成'!$B$3,H9>='自動作成'!$B$3),1,0)) | AE9: =IF(I9="","",IF(AND(7<'自動作成'!$B$3,I9>='自動作成'!$B$3),1,0)) | AF9: =IF(J9="","",IF(AND(8<'自動作成'!$B$3,J9>='自動作成'!$B$3),1,0)) | AG9: =IF(K9="","",IF(AND(9<'自動作成'!$B$3,K9>='自動作成'!$B$3),1,0))
A10: 7 | B10: =IF(OR($A10>$B$1-1,0>$B$1-1),"",IF(0=$B$1-1,MOD(($A10-1)*$B$1/2,$B$1-1),IF(MOD(($A10-1)-0,$B$1-1)=0,$B$1-1,MOD(($A10-1)-0,$B$1-1)))) | C10: =IF(OR($A10>$B$1-1,1>$B$1-1),"",IF(1=$B$1-1,MOD(($A10-1)*$B$1/2,$B$1-1),IF(MOD(($A10-1)-1,$B$1-1)=1,$B$1-1,MOD(($A10-1)-1,$B$1-1)))) | D10: =IF(OR($A10>$B$1-1,2>$B$1-1),"",IF(2=$B$1-1,MOD(($A10-1)*$B$1/2,$B$1-1),IF(MOD(($A10-1)-2,$B$1-1)=2,$B$1-1,MOD(($A10-1)-2,$B$1-1)))) | E10: =IF(OR($A10>$B$1-1,3>$B$1-1),"",IF(3=$B$1-1,MOD(($A10-1)*$B$1/2,$B$1-1),IF(MOD(($A10-1)-3,$B$1-1)=3,$B$1-1,MOD(($A10-1)-3,$B$1-1)))) | F10: =IF(OR($A10>$B$1-1,4>$B$1-1),"",IF(4=$B$1-1,MOD(($A10-1)*$B$1/2,$B$1-1),IF(MOD(($A10-1)-4,$B$1-1)=4,$B$1-1,MOD(($A10-1)-4,$B$1-1)))) | G10: =IF(OR($A10>$B$1-1,5>$B$1-1),"",IF(5=$B$1-1,MOD(($A10-1)*$B$1/2,$B$1-1),IF(MOD(($A10-1)-5,$B$1-1)=5,$B$1-1,MOD(($A10-1)-5,$B$1-1)))) | H10: =IF(OR($A10>$B$1-1,6>$B$1-1),"",IF(6=$B$1-1,MOD(($A10-1)*$B$1/2,$B$1-1),IF(MOD(($A10-1)-6,$B$1-1)=6,$B$1-1,MOD(($A10-1)-6,$B$1-1)))) | I10: =IF(OR($A10>$B$1-1,7>$B$1-1),"",IF(7=$B$1-1,MOD(($A10-1)*$B$1/2,$B$1-1),IF(MOD(($A10-1)-7,$B$1-1)=7,$B$1-1,MOD(($A10-1)-7,$B$1-1)))) | J10: =IF(OR($A10>$B$1-1,8>$B$1-1),"",IF(8=$B$1-1,MOD(($A10-1)*$B$1/2,$B$1-1),IF(MOD(($A10-1)-8,$B$1-1)=8,$B$1-1,MOD(($A10-1)-8,$B$1-1)))) | K10: =IF(OR($A10>$B$1-1,9>$B$1-1),"",IF(9=$B$1-1,MOD(($A10-1)*$B$1/2,$B$1-1),IF(MOD(($A10-1)-9,$B$1-1)=9,$B$1-1,MOD(($A10-1)-9,$B$1-1)))) | M10: =IF(B10="","",0+IF(AND(0<B10,B10<'自動作成'!$B$3),1,0)) | N10: =IF(C10="","",N(M10)+IF(AND(1<C10,C10<'自動作成'!$B$3),1,0)) | O10: =IF(D10="","",N(N10)+IF(AND(2<D10,D10<'自動作成'!$B$3),1,0)) | P10: =IF(E10="","",N(O10)+IF(AND(3<E10,E10<'自動作成'!$B$3),1,0)) | Q10: =IF(F10="","",N(P10)+IF(AND(4<F10,F10<'自動作成'!$B$3),1,0)) | R10: =IF(G10="","",N(Q10)+IF(AND(5<G10,G10<'自動作成'!$B$3),1,0)) | S10: =IF(H10="","",N(R10)+IF(AND(6<H10,H10<'自動作成'!$B$3),1,0)) | T10: =IF(I10="","",N(S10)+IF(AND(7<I10,I10<'自動作成'!$B$3),1,0)) | U10: =IF(J10="","",N(T10)+IF(AND(8<J10,J10<'自動作成'!$B$3),1,0)) | V10: =IF(K10="","",N(U10)+IF(AND(9<K10,K10<'自動作成'!$B$3),1,0)) | X10: =IF(B10="","",IF(AND(0<'自動作成'!$B$3,B10>='自動作成'!$B$3),1,0)) | Y10: =IF(C10="","",IF(AND(1<'自動作成'!$B$3,C10>='自動作成'!$B$3),1,0)) | Z10: =IF(D10="","",IF(AND(2<'自動作成'!$B$3,D10>='自動作成'!$B$3),1,0)) | AA10: =IF(E10="","",IF(AND(3<'自動作成'!$B$3,E10>='自動作成'!$B$3),1,0)) | AB10: =IF(F10="","",IF(AND(4<'自動作成'!$B$3,F10>='自動作成'!$B$3),1,0)) | AC10: =IF(G10="","",IF(AND(5<'自動作成'!$B$3,G10>='自動作成'!$B$3),1,0)) | AD10: =IF(H10="","",IF(AND(6<'自動作成'!$B$3,H10>='自動作成'!$B$3),1,0)) | AE10: =IF(I10="","",IF(AND(7<'自動作成'!$B$3,I10>='自動作成'!$B$3),1,0)) | AF10: =IF(J10="","",IF(AND(8<'自動作成'!$B$3,J10>='自動作成'!$B$3),1,0)) | AG10: =IF(K10="","",IF(AND(9<'自動作成'!$B$3,K10>='自動作成'!$B$3),1,0))
A11: 8 | B11: =IF(OR($A11>$B$1-1,0>$B$1-1),"",IF(0=$B$1-1,MOD(($A11-1)*$B$1/2,$B$1-1),IF(MOD(($A11-1)-0,$B$1-1)=0,$B$1-1,MOD(($A11-1)-0,$B$1-1)))) | C11: =IF(OR($A11>$B$1-1,1>$B$1-1),"",IF(1=$B$1-1,MOD(($A11-1)*$B$1/2,$B$1-1),IF(MOD(($A11-1)-1,$B$1-1)=1,$B$1-1,MOD(($A11-1)-1,$B$1-1)))) | D11: =IF(OR($A11>$B$1-1,2>$B$1-1),"",IF(2=$B$1-1,MOD(($A11-1)*$B$1/2,$B$1-1),IF(MOD(($A11-1)-2,$B$1-1)=2,$B$1-1,MOD(($A11-1)-2,$B$1-1)))) | E11: =IF(OR($A11>$B$1-1,3>$B$1-1),"",IF(3=$B$1-1,MOD(($A11-1)*$B$1/2,$B$1-1),IF(MOD(($A11-1)-3,$B$1-1)=3,$B$1-1,MOD(($A11-1)-3,$B$1-1)))) | F11: =IF(OR($A11>$B$1-1,4>$B$1-1),"",IF(4=$B$1-1,MOD(($A11-1)*$B$1/2,$B$1-1),IF(MOD(($A11-1)-4,$B$1-1)=4,$B$1-1,MOD(($A11-1)-4,$B$1-1)))) | G11: =IF(OR($A11>$B$1-1,5>$B$1-1),"",IF(5=$B$1-1,MOD(($A11-1)*$B$1/2,$B$1-1),IF(MOD(($A11-1)-5,$B$1-1)=5,$B$1-1,MOD(($A11-1)-5,$B$1-1)))) | H11: =IF(OR($A11>$B$1-1,6>$B$1-1),"",IF(6=$B$1-1,MOD(($A11-1)*$B$1/2,$B$1-1),IF(MOD(($A11-1)-6,$B$1-1)=6,$B$1-1,MOD(($A11-1)-6,$B$1-1)))) | I11: =IF(OR($A11>$B$1-1,7>$B$1-1),"",IF(7=$B$1-1,MOD(($A11-1)*$B$1/2,$B$1-1),IF(MOD(($A11-1)-7,$B$1-1)=7,$B$1-1,MOD(($A11-1)-7,$B$1-1)))) | J11: =IF(OR($A11>$B$1-1,8>$B$1-1),"",IF(8=$B$1-1,MOD(($A11-1)*$B$1/2,$B$1-1),IF(MOD(($A11-1)-8,$B$1-1)=8,$B$1-1,MOD(($A11-1)-8,$B$1-1)))) | K11: =IF(OR($A11>$B$1-1,9>$B$1-1),"",IF(9=$B$1-1,MOD(($A11-1)*$B$1/2,$B$1-1),IF(MOD(($A11-1)-9,$B$1-1)=9,$B$1-1,MOD(($A11-1)-9,$B$1-1)))) | M11: =IF(B11="","",0+IF(AND(0<B11,B11<'自動作成'!$B$3),1,0)) | N11: =IF(C11="","",N(M11)+IF(AND(1<C11,C11<'自動作成'!$B$3),1,0)) | O11: =IF(D11="","",N(N11)+IF(AND(2<D11,D11<'自動作成'!$B$3),1,0)) | P11: =IF(E11="","",N(O11)+IF(AND(3<E11,E11<'自動作成'!$B$3),1,0)) | Q11: =IF(F11="","",N(P11)+IF(AND(4<F11,F11<'自動作成'!$B$3),1,0)) | R11: =IF(G11="","",N(Q11)+IF(AND(5<G11,G11<'自動作成'!$B$3),1,0)) | S11: =IF(H11="","",N(R11)+IF(AND(6<H11,H11<'自動作成'!$B$3),1,0)) | T11: =IF(I11="","",N(S11)+IF(AND(7<I11,I11<'自動作成'!$B$3),1,0)) | U11: =IF(J11="","",N(T11)+IF(AND(8<J11,J11<'自動作成'!$B$3),1,0)) | V11: =IF(K11="","",N(U11)+IF(AND(9<K11,K11<'自動作成'!$B$3),1,0)) | X11: =IF(B11="","",IF(AND(0<'自動作成'!$B$3,B11>='自動作成'!$B$3),1,0)) | Y11: =IF(C11="","",IF(AND(1<'自動作成'!$B$3,C11>='自動作成'!$B$3),1,0)) | Z11: =IF(D11="","",IF(AND(2<'自動作成'!$B$3,D11>='自動作成'!$B$3),1,0)) | AA11: =IF(E11="","",IF(AND(3<'自動作成'!$B$3,E11>='自動作成'!$B$3),1,0)) | AB11: =IF(F11="","",IF(AND(4<'自動作成'!$B$3,F11>='自動作成'!$B$3),1,0)) | AC11: =IF(G11="","",IF(AND(5<'自動作成'!$B$3,G11>='自動作成'!$B$3),1,0)) | AD11: =IF(H11="","",IF(AND(6<'自動作成'!$B$3,H11>='自動作成'!$B$3),1,0)) | AE11: =IF(I11="","",IF(AND(7<'自動作成'!$B$3,I11>='自動作成'!$B$3),1,0)) | AF11: =IF(J11="","",IF(AND(8<'自動作成'!$B$3,J11>='自動作成'!$B$3),1,0)) | AG11: =IF(K11="","",IF(AND(9<'自動作成'!$B$3,K11>='自動作成'!$B$3),1,0))
A12: 9 | B12: =IF(OR($A12>$B$1-1,0>$B$1-1),"",IF(0=$B$1-1,MOD(($A12-1)*$B$1/2,$B$1-1),IF(MOD(($A12-1)-0,$B$1-1)=0,$B$1-1,MOD(($A12-1)-0,$B$1-1)))) | C12: =IF(OR($A12>$B$1-1,1>$B$1-1),"",IF(1=$B$1-1,MOD(($A12-1)*$B$1/2,$B$1-1),IF(MOD(($A12-1)-1,$B$1-1)=1,$B$1-1,MOD(($A12-1)-1,$B$1-1)))) | D12: =IF(OR($A12>$B$1-1,2>$B$1-1),"",IF(2=$B$1-1,MOD(($A12-1)*$B$1/2,$B$1-1),IF(MOD(($A12-1)-2,$B$1-1)=2,$B$1-1,MOD(($A12-1)-2,$B$1-1)))) | E12: =IF(OR($A12>$B$1-1,3>$B$1-1),"",IF(3=$B$1-1,MOD(($A12-1)*$B$1/2,$B$1-1),IF(MOD(($A12-1)-3,$B$1-1)=3,$B$1-1,MOD(($A12-1)-3,$B$1-1)))) | F12: =IF(OR($A12>$B$1-1,4>$B$1-1),"",IF(4=$B$1-1,MOD(($A12-1)*$B$1/2,$B$1-1),IF(MOD(($A12-1)-4,$B$1-1)=4,$B$1-1,MOD(($A12-1)-4,$B$1-1)))) | G12: =IF(OR($A12>$B$1-1,5>$B$1-1),"",IF(5=$B$1-1,MOD(($A12-1)*$B$1/2,$B$1-1),IF(MOD(($A12-1)-5,$B$1-1)=5,$B$1-1,MOD(($A12-1)-5,$B$1-1)))) | H12: =IF(OR($A12>$B$1-1,6>$B$1-1),"",IF(6=$B$1-1,MOD(($A12-1)*$B$1/2,$B$1-1),IF(MOD(($A12-1)-6,$B$1-1)=6,$B$1-1,MOD(($A12-1)-6,$B$1-1)))) | I12: =IF(OR($A12>$B$1-1,7>$B$1-1),"",IF(7=$B$1-1,MOD(($A12-1)*$B$1/2,$B$1-1),IF(MOD(($A12-1)-7,$B$1-1)=7,$B$1-1,MOD(($A12-1)-7,$B$1-1)))) | J12: =IF(OR($A12>$B$1-1,8>$B$1-1),"",IF(8=$B$1-1,MOD(($A12-1)*$B$1/2,$B$1-1),IF(MOD(($A12-1)-8,$B$1-1)=8,$B$1-1,MOD(($A12-1)-8,$B$1-1)))) | K12: =IF(OR($A12>$B$1-1,9>$B$1-1),"",IF(9=$B$1-1,MOD(($A12-1)*$B$1/2,$B$1-1),IF(MOD(($A12-1)-9,$B$1-1)=9,$B$1-1,MOD(($A12-1)-9,$B$1-1)))) | M12: =IF(B12="","",0+IF(AND(0<B12,B12<'自動作成'!$B$3),1,0)) | N12: =IF(C12="","",N(M12)+IF(AND(1<C12,C12<'自動作成'!$B$3),1,0)) | O12: =IF(D12="","",N(N12)+IF(AND(2<D12,D12<'自動作成'!$B$3),1,0)) | P12: =IF(E12="","",N(O12)+IF(AND(3<E12,E12<'自動作成'!$B$3),1,0)) | Q12: =IF(F12="","",N(P12)+IF(AND(4<F12,F12<'自動作成'!$B$3),1,0)) | R12: =IF(G12="","",N(Q12)+IF(AND(5<G12,G12<'自動作成'!$B$3),1,0)) | S12: =IF(H12="","",N(R12)+IF(AND(6<H12,H12<'自動作成'!$B$3),1,0)) | T12: =IF(I12="","",N(S12)+IF(AND(7<I12,I12<'自動作成'!$B$3),1,0)) | U12: =IF(J12="","",N(T12)+IF(AND(8<J12,J12<'自動作成'!$B$3),1,0)) | V12: =IF(K12="","",N(U12)+IF(AND(9<K12,K12<'自動作成'!$B$3),1,0)) | X12: =IF(B12="","",IF(AND(0<'自動作成'!$B$3,B12>='自動作成'!$B$3),1,0)) | Y12: =IF(C12="","",IF(AND(1<'自動作成'!$B$3,C12>='自動作成'!$B$3),1,0)) | Z12: =IF(D12="","",IF(AND(2<'自動作成'!$B$3,D12>='自動作成'!$B$3),1,0)) | AA12: =IF(E12="","",IF(AND(3<'自動作成'!$B$3,E12>='自動作成'!$B$3),1,0)) | AB12: =IF(F12="","",IF(AND(4<'自動作成'!$B$3,F12>='自動作成'!$B$3),1,0)) | AC12: =IF(G12="","",IF(AND(5<'自動作成'!$B$3,G12>='自動作成'!$B$3),1,0)) | AD12: =IF(H12="","",IF(AND(6<'自動作成'!$B$3,H12>='自動作成'!$B$3),1,0)) | AE12: =IF(I12="","",IF(AND(7<'自動作成'!$B$3,I12>='自動作成'!$B$3),1,0)) | AF12: =IF(J12="","",IF(AND(8<'自動作成'!$B$3,J12>='自動作成'!$B$3),1,0)) | AG12: =IF(K12="","",IF(AND(9<'自動作成'!$B$3,K12>='自動作成'!$B$3),1,0))
